BEGIN:VCALENDAR
VERSION:2.0
PRODID:-//Patricia Billings - ECPv6.15.20//NONSGML v1.0//EN
CALSCALE:GREGORIAN
METHOD:PUBLISH
X-WR-CALNAME:Patricia Billings
X-ORIGINAL-URL:https://equallanguage.com
X-WR-CALDESC:Events for Patricia Billings
REFRESH-INTERVAL;VALUE=DURATION:PT1H
X-Robots-Tag:noindex
X-PUBLISHED-TTL:PT1H
BEGIN:VTIMEZONE
TZID:Europe/Athens
BEGIN:DAYLIGHT
TZOFFSETFROM:+0200
TZOFFSETTO:+0300
TZNAME:EEST
DTSTART:20250330T010000
END:DAYLIGHT
BEGIN:STANDARD
TZOFFSETFROM:+0300
TZOFFSETTO:+0200
TZNAME:EET
DTSTART:20251026T010000
END:STANDARD
BEGIN:DAYLIGHT
TZOFFSETFROM:+0200
TZOFFSETTO:+0300
TZNAME:EEST
DTSTART:20260329T010000
END:DAYLIGHT
BEGIN:STANDARD
TZOFFSETFROM:+0300
TZOFFSETTO:+0200
TZNAME:EET
DTSTART:20261025T010000
END:STANDARD
BEGIN:DAYLIGHT
TZOFFSETFROM:+0200
TZOFFSETTO:+0300
TZNAME:EEST
DTSTART:20270328T010000
END:DAYLIGHT
BEGIN:STANDARD
TZOFFSETFROM:+0300
TZOFFSETTO:+0200
TZNAME:EET
DTSTART:20271031T010000
END:STANDARD
END:VTIMEZONE
BEGIN:VEVENT
DTSTART;TZID=Europe/Athens:20260128T190000
DTEND;TZID=Europe/Athens:20260128T200000
DTSTAMP:20260425T125925
CREATED:20260123T104240Z
LAST-MODIFIED:20260126T101636Z
UID:10000144-1769626800-1769630400@equallanguage.com
SUMMARY:Mindfulness Meditation Session
DESCRIPTION:Athenians and visitors\, I warmly invite you to a Mindfulness Meditation Session guided by me \nWednesday\, January 28 \n19:00-20:00 (Please arrive for an on-time start\, thank you!) \nAt Alma Community Therapies\, Kallidromiou 79\, Exarcheia \nTeachings and practices to arrive in the present moment\, ease stress\, find clarity\, give self-compassion to heart~mind~body\, and set wise intentions for work and life\, together in community \nIn English\, Dana donation-based
URL:https://equallanguage.com/event/2855/
LOCATION:Alma Community Therapies\, Kallidromiou 79\, Athens\, Greece
ATTACH;FMTTYPE=image/jpeg:https://equallanguage.com/wp-content/uploads/2026/01/BowlBell2.jpg
END:VEVENT
END:VCALENDAR